BEGIN:VCALENDAR
VERSION:2.0
PRODID:-//Dads Against Angry Moms - ECPv6.15.20//NONSGML v1.0//EN
CALSCALE:GREGORIAN
METHOD:PUBLISH
X-WR-CALNAME:Dads Against Angry Moms
X-ORIGINAL-URL:https://ourdaamlegacy.org
X-WR-CALDESC:Events for Dads Against Angry Moms
REFRESH-INTERVAL;VALUE=DURATION:PT1H
X-Robots-Tag:noindex
X-PUBLISHED-TTL:PT1H
BEGIN:VTIMEZONE
TZID:America/New_York
BEGIN:DAYLIGHT
TZOFFSETFROM:-0500
TZOFFSETTO:-0400
TZNAME:EDT
DTSTART:20230312T070000
END:DAYLIGHT
BEGIN:STANDARD
TZOFFSETFROM:-0400
TZOFFSETTO:-0500
TZNAME:EST
DTSTART:20231105T060000
END:STANDARD
BEGIN:DAYLIGHT
TZOFFSETFROM:-0500
TZOFFSETTO:-0400
TZNAME:EDT
DTSTART:20240310T070000
END:DAYLIGHT
BEGIN:STANDARD
TZOFFSETFROM:-0400
TZOFFSETTO:-0500
TZNAME:EST
DTSTART:20241103T060000
END:STANDARD
BEGIN:DAYLIGHT
TZOFFSETFROM:-0500
TZOFFSETTO:-0400
TZNAME:EDT
DTSTART:20250309T070000
END:DAYLIGHT
BEGIN:STANDARD
TZOFFSETFROM:-0400
TZOFFSETTO:-0500
TZNAME:EST
DTSTART:20251102T060000
END:STANDARD
BEGIN:DAYLIGHT
TZOFFSETFROM:-0500
TZOFFSETTO:-0400
TZNAME:EDT
DTSTART:20260308T070000
END:DAYLIGHT
BEGIN:STANDARD
TZOFFSETFROM:-0400
TZOFFSETTO:-0500
TZNAME:EST
DTSTART:20261101T060000
END:STANDARD
END:VTIMEZONE
BEGIN:VEVENT
DTSTART;TZID=America/New_York:20250524T113000
DTEND;TZID=America/New_York:20250524T140000
DTSTAMP:20260422T180951
CREATED:20250428T011629Z
LAST-MODIFIED:20250520T003130Z
UID:855-1748086200-1748095200@ourdaamlegacy.org
SUMMARY:Plant with Dads 2025  - The Citrus Tree
DESCRIPTION:DADS\, bring your kids\, your green thumb and join us for a FREE event filled with plenty of soil and love! \nChoose a pot\, a plant and take it home! \n*All supplies are provided. Moms are welcome.* \nFor more information\, contact: cdshepard@hotmail.com or ourdaamlegacy@gmail.com
URL:https://ourdaamlegacy.org/event/plant-with-dads-2025-the-citrus-tree/
LOCATION:The Citrus Tree\, 10031 Corbett Road\, Cincinnati\, OH\, 45231
CATEGORIES:Plant With Dads
END:VEVENT
BEGIN:VEVENT
DTSTART;TZID=America/New_York:20250517T110000
DTEND;TZID=America/New_York:20250517T140000
DTSTAMP:20260422T180951
CREATED:20250428T011112Z
LAST-MODIFIED:20250503T170224Z
UID:849-1747479600-1747490400@ourdaamlegacy.org
SUMMARY:Plant with Dads 2025  Funke's Greenhouses
DESCRIPTION:DADS\, bring your kids\, your green thumb and join us for a FREE event filled with plenty of soil and love! \nChoose a pot\, a plant and take it home! \n*All supplies are provided. Moms are welcome.* \nFor more information\, contact: cdshepard@hotmail.com \n 
URL:https://ourdaamlegacy.org/event/plant-with-dads/
LOCATION:Funke’s Greenhouses\, 4798 Gray Road\, Cincinnati\, 45232
CATEGORIES:Plant With Dads
END:VEVENT
BEGIN:VEVENT
DTSTART;TZID=America/New_York:20240615T080000
DTEND;TZID=America/New_York:20240615T170000
DTSTAMP:20260422T180951
CREATED:20241012T135253Z
LAST-MODIFIED:20241013T154420Z
UID:142-1718438400-1718470800@ourdaamlegacy.org
SUMMARY:Plants With Dad June 2024
DESCRIPTION:This event was great. We hope you can join us again next year. \n.                                                                                                                                                                                                                                                                                                                                                                                                                                                                                                                                                                                                                                                                                                                                                                                                                                                                                                                                                                                                                                                                                                                                                                                                                                                                                                                                                                                                                                                                                                                                                                                                                                                                                                                                                                                                                                                                                                                                                                                                                                                                                                                                                                                                                                                                                                                                           «              ‹              																										of																					2																	                              ›                »
URL:https://ourdaamlegacy.org/event/plants-with-dad-june-2024/
LOCATION:OH
CATEGORIES:Plant With Dads
ATTACH;FMTTYPE=image/jpeg:https://ourdaamlegacy.org/wp-content/uploads/2024/10/20220528_130331-scaled.jpg
END:VEVENT
END:VCALENDAR