BEGIN:VCALENDAR
VERSION:2.0
PRODID:-//Dads Against Angry Moms - ECPv6.15.20//NONSGML v1.0//EN
CALSCALE:GREGORIAN
METHOD:PUBLISH
X-ORIGINAL-URL:https://ourdaamlegacy.org
X-WR-CALDESC:Events for Dads Against Angry Moms
REFRESH-INTERVAL;VALUE=DURATION:PT1H
X-Robots-Tag:noindex
X-PUBLISHED-TTL:PT1H
BEGIN:VTIMEZONE
TZID:America/New_York
BEGIN:DAYLIGHT
TZOFFSETFROM:-0500
TZOFFSETTO:-0400
TZNAME:EDT
DTSTART:20240310T070000
END:DAYLIGHT
BEGIN:STANDARD
TZOFFSETFROM:-0400
TZOFFSETTO:-0500
TZNAME:EST
DTSTART:20241103T060000
END:STANDARD
BEGIN:DAYLIGHT
TZOFFSETFROM:-0500
TZOFFSETTO:-0400
TZNAME:EDT
DTSTART:20250309T070000
END:DAYLIGHT
BEGIN:STANDARD
TZOFFSETFROM:-0400
TZOFFSETTO:-0500
TZNAME:EST
DTSTART:20251102T060000
END:STANDARD
BEGIN:DAYLIGHT
TZOFFSETFROM:-0500
TZOFFSETTO:-0400
TZNAME:EDT
DTSTART:20260308T070000
END:DAYLIGHT
BEGIN:STANDARD
TZOFFSETFROM:-0400
TZOFFSETTO:-0500
TZNAME:EST
DTSTART:20261101T060000
END:STANDARD
END:VTIMEZONE
BEGIN:VEVENT
DTSTART;TZID=America/New_York:20250208T180000
DTEND;TZID=America/New_York:20250208T190000
DTSTAMP:20260422T183235
CREATED:20250203T031741Z
LAST-MODIFIED:20250203T032129Z
UID:822-1739037600-1739041200@ourdaamlegacy.org
SUMMARY:D.A.A.M. Poetry Jam
DESCRIPTION:Women\, have you ever stopped and looked at the father of your children and thought “what is he thinking?”  Come find out. \nMen do you feel alone and unsure if you are doing the Dad thing right? Come out and hear other dads share their thoughts. \nAfter the jam stay for the play\, The Case for the Existence of God at the Know Theatre. \nFrom Samuel D. Hunter\, the writer of the Oscar-winning film\, The Whale\, comes a humorous and wrenching tale about land\, fatherhood\, and the sacrifices we make for our children. \nAcross the desk of a small town mortgage company\, two first-time fathers confront the realities of what it costs to set their futures in motion.
URL:https://ourdaamlegacy.org/event/d-a-a-m-poetry-jam/
LOCATION:Know Theatre\, 1120 Jackson Street\, Cincinnati\, OH
CATEGORIES:Poetry Jam
END:VEVENT
END:VCALENDAR